BEGIN:VCALENDAR
VERSION:2.0
PRODID:Events Booking
BEGIN:VEVENT
UID:69ed025b3b9f0
SUMMARY:General Meeting & Mother’s Day Lunch
DESCRIPTION:&nbsp\;
 Soroptimist International Port Moresby warmly invites
  members and friends to a special General Meeting and Mother’s Day Lunch
  celebrating all mums and mums-to-be. This joyful gathering will be held o
 n Saturday\, 23 May 2026 at 1:00 PM\, Level 2\, Annex Building\, NCDC City
  Hall. It’s a chance to connect\, celebrate\, and honour the incredible 
 women in our lives—so bring a plate to share\, dress in something bright
  and joyful\, and bring along your mum\, daughter\, or a special woman. RS
 VP by 19th May via 71449686 or the SIPOM WhatsApp Group. ????
 &nbsp\;
DTSTART:20260523T030000Z
DTEND:20260523T060000Z
DTSTAMP:20260425T021247Z
ORGANIZER;CN=Soroptimist International South East Asia Pacific:MAILTO:hq@si
 seap.org
END:VEVENT
END:VCALENDAR